BEGIN:VCALENDAR
VERSION:2.0
PRODID:-//Mas Corazón - ECPv6.15.17.1//NONSGML v1.0//EN
CALSCALE:GREGORIAN
METHOD:PUBLISH
X-WR-CALNAME:Mas Corazón
X-ORIGINAL-URL:https://mascorazonretreat.com
X-WR-CALDESC:Evenementen voor Mas Corazón
REFRESH-INTERVAL;VALUE=DURATION:PT1H
X-Robots-Tag:noindex
X-PUBLISHED-TTL:PT1H
BEGIN:VTIMEZONE
TZID:UTC
BEGIN:STANDARD
TZOFFSETFROM:+0000
TZOFFSETTO:+0000
TZNAME:UTC
DTSTART:20250101T000000
END:STANDARD
END:VTIMEZONE
BEGIN:VEVENT
DTSTART;VALUE=DATE:20260314
DTEND;VALUE=DATE:20260320
DTSTAMP:20260419T194258
CREATED:20250624T064207Z
LAST-MODIFIED:20260120T170632Z
UID:1950-1773446400-1773964799@mascorazonretreat.com
SUMMARY:Mannenretraite: Fire & Ice ‘deep dive’
DESCRIPTION:Data: 14 t/m 19 maart 2026 \nGa mee op reis met Roald en Lútzen… \nKom ervaren\, voelen en verbinden tijdens de Fire & Ice mannenretraite. Speciaal voor mannen die meer uit het leven willen halen en hun mannenkracht willen inzetten. \nRoald en Lútzen zijn ervaren coaches en hebben zich gespecialiseerd in mannenwerk. Intuïtief voelen ze precies aan wat er nodig is en vullen ze elkaar perfect aan tijdens de week. \nOntdek jouw mannelijke kracht en groei tijdens deze 6-daagse ‘Deep Dive’. \nVoor wie is deze reis? \nDit ervaringsgerichte programma is voor mannen die hun innerlijke kracht willen ervaren en hun gevoelens willen verkennen. \n\nWil je meer vrijheid ervaren? Je niet meer inhouden?\nWil jij minder vanuit je hoofd en meer vanuit je hart leven?\nDurf jij jouw grenzen op te rekken en uit je comfortzone te stappen?\nHeb je behoefte aan verbinding met jezelf\, je mannelijke kracht en gelijkgestemden?\n\nBen jij klaar voor de volgende stap in je leven maar kan je wel wat hulp gebruiken in je zoektocht? \nWat ga je meemaken? \nTijdens deze geweldige mannenretraite ontvang je inzichten die je nog niet eerder had\, leer je dingen die je nog niet wist over jezelf. Je ontvangt: \n\nAdemsessies\, meditaties en lichaamswerk om contact te maken met je lijf.\nErvaringsgerichte oefeningen zoals IJsbad\, TRE en een systemisch werk.\nVuurceremonie en een prachtige stilte wandeling in de natuur.\nInspirerende teachings over (voor)vaders\, mannenkracht en de mannenwond.\nOverheerlijke\, gezonde\, voedzame maaltijden die bijdragen aan je welzijn en vitaliteit.\n\nWe gaan samen verbinden\, ademen\, schreeuwen\, dansen\, lachen en huilen. Er is daarnaast voldoende vrije tijd om te reflecteren en te ontspannen. \nEn niet te vergeten… de broederschap die je gaat ervaren met de andere mannen is onbetaalbaar. \nFacilitators: Roald Ploegmakers & Lútzen Bouwe Schroor \nPraktische informatie \nDeze krachtige 6-daagse Fire & Ice ‘Deep Dive’ start op 14 maart om 17:00 en eindigt op 19 maart om 11:00. \nInvestering:\n– € 1.995  tot 1 februari 2026\n– € 2.395  vanaf 2 februari 2026 \nPrijzen inclusief sessies\, 3 heerlijke maaltijden\, snacks\, fruit\, gebruik van alle faciliteiten en op basis van een gedeelde 2 persoonskamer met eigen sanitair. Upgrade naar eigen privé gebruik van kamer is +€ 250\,-
URL:https://mascorazonretreat.com/evenementen/mannenretraite-fire-ice-deep-dive/
LOCATION:Mas Corazón\, Veïnat de Sant Tou 16\, Tordera\, Spain
CATEGORIES:External Organizer
ATTACH;FMTTYPE=image/jpeg:https://mascorazonretreat.com/wp-content/uploads/2025/06/Banner-FI.jpg
END:VEVENT
END:VCALENDAR