BEGIN:VCALENDAR
VERSION:2.0
PRODID:-//Mas Corazón - ECPv6.15.17.1//NONSGML v1.0//EN
CALSCALE:GREGORIAN
METHOD:PUBLISH
X-WR-CALNAME:Mas Corazón
X-ORIGINAL-URL:https://mascorazonretreat.com
X-WR-CALDESC:Evenementen voor Mas Corazón
REFRESH-INTERVAL;VALUE=DURATION:PT1H
X-Robots-Tag:noindex
X-PUBLISHED-TTL:PT1H
BEGIN:VTIMEZONE
TZID:Europe/Amsterdam
BEGIN:DAYLIGHT
TZOFFSETFROM:+0100
TZOFFSETTO:+0200
TZNAME:CEST
DTSTART:20230326T010000
END:DAYLIGHT
BEGIN:STANDARD
TZOFFSETFROM:+0200
TZOFFSETTO:+0100
TZNAME:CET
DTSTART:20231029T010000
END:STANDARD
BEGIN:DAYLIGHT
TZOFFSETFROM:+0100
TZOFFSETTO:+0200
TZNAME:CEST
DTSTART:20240331T010000
END:DAYLIGHT
BEGIN:STANDARD
TZOFFSETFROM:+0200
TZOFFSETTO:+0100
TZNAME:CET
DTSTART:20241027T010000
END:STANDARD
BEGIN:DAYLIGHT
TZOFFSETFROM:+0100
TZOFFSETTO:+0200
TZNAME:CEST
DTSTART:20250330T010000
END:DAYLIGHT
BEGIN:STANDARD
TZOFFSETFROM:+0200
TZOFFSETTO:+0100
TZNAME:CET
DTSTART:20251026T010000
END:STANDARD
BEGIN:DAYLIGHT
TZOFFSETFROM:+0100
TZOFFSETTO:+0200
TZNAME:CEST
DTSTART:20260329T010000
END:DAYLIGHT
BEGIN:STANDARD
TZOFFSETFROM:+0200
TZOFFSETTO:+0100
TZNAME:CET
DTSTART:20261025T010000
END:STANDARD
END:VTIMEZONE
BEGIN:VTIMEZONE
TZID:UTC
BEGIN:STANDARD
TZOFFSETFROM:+0000
TZOFFSETTO:+0000
TZNAME:UTC
DTSTART:20240101T000000
END:STANDARD
END:VTIMEZONE
BEGIN:VEVENT
DTSTART;VALUE=DATE:20250916
DTEND;VALUE=DATE:20250922
DTSTAMP:20260419T224310
CREATED:20241001T081615Z
LAST-MODIFIED:20250317T172045Z
UID:1489-1757980800-1758499199@mascorazonretreat.com
SUMMARY:Rust & Ruimte Retraite met Myrna van Kemenade
DESCRIPTION:|External Organizer| \nTijdens deze retraite zorgt Myrna ervoor dat je op het prachtige landgoed de rust en ruimte krijgt om jouw volle potentieel te kunnen benutten. Haar lijfspreuk is al jaren: ‘Minder doen\, meer bereiken.’ en dat is precies wat deze week voor jou zal gaan betekenen. This retreat is in Dutch. \nBlijf up to date via de website van Myrna van Kemenade  \nDoor middel van yoga\, meditatie\, zelfreflectie en wandelingen in de natuur\, kun je je volledig ontspannen en kom je als herboren weer terug. Om het compleet te maken is eigenaresse van Mas Corazón\, Dorien van Nieukerken de host en zal zij\, samen met Myrna\, ook een sessie geven om hun wijsheid en kennis als yogi’s\, ondernemers maar vooral als mens met je te delen. \nInvestering: 1998\,- inclusief btw voor een gedeelde kamer binnen en 1800 inclusief btw voor een luxe bell-tent in de tuin ( 5 plaatsen beschikbaar)\nDe prijs is inclusief 5 overnachtingen\, 3 (vegetarische) maaltijden per dag en alle groepslessen\, begeleide wandelingen en faciliteiten op het terrein. \nLees meer over de trainer Myrna
URL:https://mascorazonretreat.com/evenementen/rust-ruimte-retraite-met-myrna-van-kemenade/
LOCATION:Mas Corazón\, Veïnat de Sant Tou 16\, Tordera\, Spain
CATEGORIES:Alles,External Organizer,Retreats
ATTACH;FMTTYPE=image/jpeg:https://mascorazonretreat.com/wp-content/uploads/2024/08/Yoga-en-mediatie-1.jpg
END:VEVENT
BEGIN:VEVENT
DTSTART;VALUE=DATE:20250518
DTEND;VALUE=DATE:20250523
DTSTAMP:20260419T224310
CREATED:20250317T113207Z
LAST-MODIFIED:20250317T113300Z
UID:1826-1747526400-1747958399@mascorazonretreat.com
SUMMARY:Female Leadership Experience
DESCRIPTION:External Organizer | Female Leadership Experience – Jouw leiderschap\, jouw impact \nBen jij een ambitieuze\, bewuste vrouw die haar leiderschap wil versterken en écht het verschil wil maken? Tijdens de Female Leadership Experience in Spanje nemen we je vijf dagen lang mee op een inspirerende reis van persoonlijke en professionele groei. \nMet een unieke combinatie van coaching\, systemische opstellingen\, stiltewandelingen\, sharing circles\, yoga en meditatie\, werken we op vier dimensies: fysiek\, emotioneel\, mentaal en spiritueel. Door ons Multi Dimensionaal Systeem© ontwikkel je diepgaand inzicht en kracht. \nDaarnaast draag je bij aan een groter geheel: een deel van je bijdrage gaat naar Microkrediet voor Moeders\, waarmee we vrouwelijke ondernemers in Azië ondersteunen. \nTijd voor beweging. Tijd voor jou. \nDurf je ambities serieus te nemen\, je energie te hervinden en bewuste keuzes te maken? Ontdek je ongekende mogelijkheden en geef jezelf deze krachtige ervaring. \nMeer informatie en aanmelden via website van The Inner Worklab  
URL:https://mascorazonretreat.com/evenementen/female-leadership-experience/
LOCATION:Mas Corazón\, Veïnat de Sant Tou 16\, Tordera\, Spain
CATEGORIES:Alles,External Organizer
ATTACH;FMTTYPE=image/jpeg:https://mascorazonretreat.com/wp-content/uploads/2024/10/MasCorazon-2.jpg
END:VEVENT
BEGIN:VEVENT
DTSTART;VALUE=DATE:20250415
DTEND;VALUE=DATE:20250421
DTSTAMP:20260419T224310
CREATED:20250128T183226Z
LAST-MODIFIED:20250128T183301Z
UID:1785-1744675200-1745193599@mascorazonretreat.com
SUMMARY:Healing Space: Couples Retreat
DESCRIPTION:External Organizer | Verdiep de verbinding tussen jou en je geliefde \nDeze Koppels Retreat van Toña Wong Chung en Marcelino Smith is een levensveranderende ervaring voor jou en je geliefde. In 6 dagen\, zonder enige afleiding\, richt je je op elkaar zodat jullie samen diep in verbinding kunnen zijn. \nOf je je nu gelukkig voelt in de liefde\, op zoek bent naar nieuwe inspiratie om je relatie te verdiepen of als je je samen in uitdagende tijden bevindt: voor ieder van jullie zal deze retreat goed doen. Voor veel mensen is de relatie met hun geliefde de meest belangrijke connectie die er is en deze retreat biedt jou de mogelijkheid om de tijd en aandacht te geven die je relatie verdient. \nMeer informatie en aanmelden
URL:https://mascorazonretreat.com/evenementen/healing-space-couples-retreat/
LOCATION:Mas Corazón\, Veïnat de Sant Tou 16\, Tordera\, Spain
CATEGORIES:Alles,External Organizer,Retreats
ATTACH;FMTTYPE=image/png:https://mascorazonretreat.com/wp-content/uploads/2025/01/Couples-Retreat.png
END:VEVENT
BEGIN:VEVENT
DTSTART;VALUE=DATE:20250331
DTEND;VALUE=DATE:20250406
DTSTAMP:20260419T224310
CREATED:20240723T133550Z
LAST-MODIFIED:20241202T121058Z
UID:894-1743379200-1743897599@mascorazonretreat.com
SUMMARY:All Flavors Retreat
DESCRIPTION:| Retreat by Dorien | \nBenieuwd naar dit retreat? Bekijk alle informatie\n 
URL:https://mascorazonretreat.com/evenementen/openings-yoga-retreat-yoga-meditation-relaxing-retreat/
LOCATION:Mas Corazón\, Veïnat de Sant Tou 16\, Tordera\, Spain
CATEGORIES:Alles,Retreats
ATTACH;FMTTYPE=image/png:https://mascorazonretreat.com/wp-content/uploads/2024/07/Opening.png
END:VEVENT
BEGIN:VEVENT
DTSTART;TZID=UTC:20250310T080000
DTEND;TZID=UTC:20250314T170000
DTSTAMP:20260419T224310
CREATED:20241126T142828Z
LAST-MODIFIED:20241126T143115Z
UID:1743-1741593600-1741971600@mascorazonretreat.com
SUMMARY:Uncover your Essence
DESCRIPTION:| External Organizer | Ontdek jezelf en kom in beweging tijdens een magische winterreis van 3 maanden om vanuit jouw essentie te bloeien in de lente. \nData: 10 t/m 14 maart 2025\nBegeleiders: Angeline van Gils\, Marjolijn Traas en Rogier van Oosterhout\nInvestering: early bird €3.666 (ex btw) tot 18 december 2024\nMeer info: www.uncover-your-essence.com \nUncover your Essence \nJe hebt een leuk leven maar je hebt het gevoel dat er iets mist. Je loopt vast in werk of privé. Je voelt dat er meer in je zit maar weet eigenlijk niet zo goed wat dat ‘meer’ dan is. Je wilt jezelf beter leren kennen. Je voelt dat je energie wegloopt en denkt dat dit anders kan. Laat ons je door de winter leiden in dit drie maanden traject. We starten in december. De tijd voor reflectie om inspiratie op te doen om in de lente te bloeien. Als afsluiting trakteren we onszelf op gezond eten en een welverdiende deep dive retraite bij Mas Corazón. \nUncover your essence\nWe gaan op zoek naar jouw authentieke zelf. Vanuit kracht\, kwetsbaarheid\, puurheid en echtheid. Dat maakt het zo’n magische reis. Alle maskers af. Ga je mee op reis? Schrijf je dan in voor dit 3 maanden winterprogramma. We sluiten 100% aan bij jouw energie en jouw behoefte. Zodat jij\, vanuit jouw essentie\, in beweging kan komen en de stappen zetten naar meer ontspanning en een rijker leven. \nJe kunt je tot 15 december inschrijven.\nMeer info: www.uncover-your-essence.com \n 
URL:https://mascorazonretreat.com/evenementen/uncover-your-essence/
LOCATION:Mas Corazón\, Veïnat de Sant Tou 16\, Tordera\, Spain
CATEGORIES:Alles,External Organizer,Retreats
ATTACH;FMTTYPE=image/png:https://mascorazonretreat.com/wp-content/uploads/2024/11/Ussence.png
END:VEVENT
BEGIN:VEVENT
DTSTART;VALUE=DATE:20250116
DTEND;VALUE=DATE:20250120
DTSTAMP:20260419T224310
CREATED:20240806T111746Z
LAST-MODIFIED:20241120T171634Z
UID:954-1736985600-1737331199@mascorazonretreat.com
SUMMARY:Dharma retreat Purpose
DESCRIPTION:|Retreat by Dorien| \nIntentions and desires: ontluik potentieel voor jouw toekomst\, schrijf je diepste wensen op\, doe mee met mooie oefeningen om jouw dromen en realiteit te synchroniseren in dit nieuwe jaar in een inspirerende omgeving! \nOntdek alles over dit retreat
URL:https://mascorazonretreat.com/evenementen/dharma-retreat-purpose/
LOCATION:Mas Corazón\, Veïnat de Sant Tou 16\, Tordera\, Spain
CATEGORIES:Alles,Retreats,Retreats by Dorien
ATTACH;FMTTYPE=image/png:https://mascorazonretreat.com/wp-content/uploads/2024/07/Dharma.png
END:VEVENT
BEGIN:VEVENT
DTSTART;VALUE=DATE:20241021
DTEND;VALUE=DATE:20241026
DTSTAMP:20260419T224310
CREATED:20240806T111119Z
LAST-MODIFIED:20241120T101647Z
UID:950-1729468800-1729900799@mascorazonretreat.com
SUMMARY:Dr. Jaime Lee
DESCRIPTION:Dr. Jaime Lee (Melbourne) zal je host zijn tijdens het Being Sovereign Retreat. \nCheck all the information and register via: https://www.healthquotient.co/being-sovereign-spain  \nMeer info 
URL:https://mascorazonretreat.com/evenementen/dr-jaime-lee/
LOCATION:Mas Corazón\, Veïnat de Sant Tou 16\, Tordera\, Spain
CATEGORIES:Alles,External Organizer,Retreats
ATTACH;FMTTYPE=image/png:https://mascorazonretreat.com/wp-content/uploads/2024/07/Jaimy-Lee.png
END:VEVENT
END:VCALENDAR