BEGIN:VCALENDAR
VERSION:2.0
PRODID:-//Mas Corazón - ECPv6.15.17.1//NONSGML v1.0//EN
CALSCALE:GREGORIAN
METHOD:PUBLISH
X-WR-CALNAME:Mas Corazón
X-ORIGINAL-URL:https://mascorazonretreat.com/en
X-WR-CALDESC:Events for Mas Corazón
REFRESH-INTERVAL;VALUE=DURATION:PT1H
X-Robots-Tag:noindex
X-PUBLISHED-TTL:PT1H
BEGIN:VTIMEZONE
TZID:Europe/Amsterdam
BEGIN:DAYLIGHT
TZOFFSETFROM:+0100
TZOFFSETTO:+0200
TZNAME:CEST
DTSTART:20250330T010000
END:DAYLIGHT
BEGIN:STANDARD
TZOFFSETFROM:+0200
TZOFFSETTO:+0100
TZNAME:CET
DTSTART:20251026T010000
END:STANDARD
BEGIN:DAYLIGHT
TZOFFSETFROM:+0100
TZOFFSETTO:+0200
TZNAME:CEST
DTSTART:20260329T010000
END:DAYLIGHT
BEGIN:STANDARD
TZOFFSETFROM:+0200
TZOFFSETTO:+0100
TZNAME:CET
DTSTART:20261025T010000
END:STANDARD
BEGIN:DAYLIGHT
TZOFFSETFROM:+0100
TZOFFSETTO:+0200
TZNAME:CEST
DTSTART:20270328T010000
END:DAYLIGHT
BEGIN:STANDARD
TZOFFSETFROM:+0200
TZOFFSETTO:+0100
TZNAME:CET
DTSTART:20271031T010000
END:STANDARD
END:VTIMEZONE
BEGIN:VTIMEZONE
TZID:UTC
BEGIN:STANDARD
TZOFFSETFROM:+0000
TZOFFSETTO:+0000
TZNAME:UTC
DTSTART:20250101T000000
END:STANDARD
END:VTIMEZONE
BEGIN:VEVENT
DTSTART;VALUE=DATE:20260628
DTEND;VALUE=DATE:20260704
DTSTAMP:20260420T050308
CREATED:20241002T165422Z
LAST-MODIFIED:20260218T144635Z
UID:1495-1782604800-1783123199@mascorazonretreat.com
SUMMARY:The Transforming Woman
DESCRIPTION:|Retreat by Dorien|\nHeal your woman’s heart – een retreat voor iedere vrouw! The Transforming Woman is een krachtig cadeau. Een ceremonie van een week die het bewustzijn van vrouwen markeert. Met rituelen\, oefeningen en wijsheden over de vrouw\, voor de vrouw. This retreat is in Dutch.\nPrijs is incl. BTW en een factuur is mogelijk. \nOntdek meer over The Transforming Woman
URL:https://mascorazonretreat.com/en/evenementen/the-unfolding-woman/
LOCATION:Mas Corazón\, Veïnat de Sant Tou 16\, Tordera\, Spain
CATEGORIES:Alles,Retreats,Retreats by Dorien
ATTACH;FMTTYPE=image/png:https://mascorazonretreat.com/wp-content/uploads/2024/07/Unfolding-woman.png
END:VEVENT
BEGIN:VEVENT
DTSTART;VALUE=DATE:20260903
DTEND;VALUE=DATE:20260907
DTSTAMP:20260420T050308
CREATED:20260209T154817Z
LAST-MODIFIED:20260209T155846Z
UID:2185-1788393600-1788739199@mascorazonretreat.com
SUMMARY:The True Athlete Retreat
DESCRIPTION:Een transformatieve driedaagse retraite voor atleten van alle niveaus\, beoefenaars\, leiders en coaches die klaar zijn om hun beoefening te verdiepen en een andere manier te ontdekken om het leven te ervaren. Deze retraite is een uitnodiging om te vertragen. In een wereld waarin atleten worden getraind om te pushen\, te streven en te presteren\, creëren we ruimte voor stilte\, bewustzijn en kalme aanwezigheid.
URL:https://mascorazonretreat.com/en/evenementen/the-true-athlete-retreat/
LOCATION:Mas Corazón\, Veïnat de Sant Tou 16\, Tordera\, Spain
ATTACH;FMTTYPE=image/jpeg:https://mascorazonretreat.com/wp-content/uploads/2026/02/the-true-athlete-retreat.jpg
END:VEVENT
BEGIN:VEVENT
DTSTART;VALUE=DATE:20260920
DTEND;VALUE=DATE:20260927
DTSTAMP:20260420T050308
CREATED:20260203T150423Z
LAST-MODIFIED:20260203T150514Z
UID:2171-1789862400-1790467199@mascorazonretreat.com
SUMMARY:AND SO WE RISE Retreat
DESCRIPTION:Voor de leidinggevende en ondernemende vrouw die voelt: ik wil niet nog een sprint. Ik verlang naar bedding. Terug vibrerend in het ritme dat ouder is dan jij\, je bedrijf\, je plannen. Vanuit vrijheid\, viering en lichaamde visie zak je uit je hoofd\, in je lijf. Je vertraagt. Je luistert. En precies daar\, in die heilige pauze\, valt de helderheid niet te forceren\, enkel te ontvangen vanuit coherentie en uitlijning.
URL:https://mascorazonretreat.com/en/evenementen/and-so-we-rise-retreat/
LOCATION:Mas Corazón\, Veïnat de Sant Tou 16\, Tordera\, Spain
ATTACH;FMTTYPE=image/jpeg:https://mascorazonretreat.com/wp-content/uploads/2026/02/240809_MasCorazon_RealEstate_WEB_V2-5.jpg
ORGANIZER;CN="Rianne Manten":MAILTO:info@riannemanten.nl
END:VEVENT
BEGIN:VEVENT
DTSTART;VALUE=DATE:20261012
DTEND;VALUE=DATE:20261018
DTSTAMP:20260420T050308
CREATED:20260324T071004Z
LAST-MODIFIED:20260324T071004Z
UID:2359-1791763200-1792281599@mascorazonretreat.com
SUMMARY:Signature Sundara Elements Retreat
DESCRIPTION:Een reis door de elementen\, een terugkeer naar je essentie. \nTijdens de Signature Sundara Elements Retreat neem ik je weer mee langs de vijf elementen: aarde\, lucht\, water\, vuur en ether. Elke dag staat in het teken van één element en nodigt je uit om een ander deel van jezelf te verkennen en te belichamen. \nMet yoga\, meditatie\, reflectie en rituelen creëren we ruimte om te aarden\, te verzachten\, te stromen\, te voelen en te openen. Stap voor stap kom je dichter bij jezelf: bij wie je bent onder alle lagen. “Sundara” staat voor innerlijke schoonheid: de schoonheid die ontstaat wanneer je volledig jezelf bent\, in je puurste vorm. Dit retreat is een uitnodiging om los te laten wat niet van jou is en te herinneren hoe mooi het is om jezelf te zijn. \nAudrey heeft ruime ervaring in het begeleiden van retreats en creëert een warme\, veilige bedding waarin je echt kunt zakken\, loslaten en jezelf kunt zijn. \nEen diepe\, voedende ervaring die je helpt om weer thuis te komen bij jezelf.
URL:https://mascorazonretreat.com/en/evenementen/signature-sundara-elements-retreat/
LOCATION:Mas Corazón\, Veïnat de Sant Tou 16\, Tordera\, Spain
ATTACH;FMTTYPE=image/png:https://mascorazonretreat.com/wp-content/uploads/2026/03/IMG_2653-1-scaled.png
END:VEVENT
BEGIN:VEVENT
DTSTART;VALUE=DATE:20261026
DTEND;VALUE=DATE:20261101
DTSTAMP:20260420T050308
CREATED:20260209T155026Z
LAST-MODIFIED:20260310T055824Z
UID:2189-1792972800-1793491199@mascorazonretreat.com
SUMMARY:Mannenretraite: Fire & Ice ‘deep dive’
DESCRIPTION: Mannenretraite: Fire & Ice ‘Deep Dive’ \nGa mee op reis met Roald en Lútzen… \n Kom ervaren\, voelen en verbinden tijdens de Fire & Ice mannenretraite. Speciaal voor mannen die meer uit het leven willen halen en hun mannenkracht willen inzetten. \nRoald en Lútzen zijn ervaren coaches en hebben zich gespecialiseerd in mannenwerk. Intuïtief voelen ze precies aan wat er nodig is en vullen ze elkaar perfect aan tijdens de week. \nOntdek jouw mannelijke kracht en groei tijdens deze 6-daagse ‘Deep Dive’.  \n\nVoor wie is deze reis?\nDit ervaringsgerichte programma is voor mannen die hun innerlijke kracht willen ervaren en hun gevoelens willen verkennen. \n\nWil je meer vrijheid ervaren? Je niet meer inhouden?\nWil jij minder vanuit je hoofd en meer vanuit je hart leven?\nDurf jij jouw grenzen op te rekken en uit je comfortzone te stappen?\nHeb je behoefte aan verbinding met jezelf\, je mannelijke kracht en gelijkgestemden?\n\nBen jij klaar voor de volgende stap in je leven maar kan je wel wat hulp gebruiken in je zoektocht? \n\nWat ga je meemaken? \nTijdens deze geweldige mannenretraite ontvang je inzichten die je nog niet eerder had\, leer je dingen die je nog niet wist over jezelf. Je ontvangt:  \n\nAdemsessies\, meditaties en lichaamswerk om contact te maken met je lijf.\nErvaringsgerichte oefeningen zoals IJsbad\, TRE en een systemisch werk.\nVuurceremonie en een prachtige stilte wandeling in de natuur.\nInspirerende teachings over (voor)vaders\, mannenkracht en de mannenwond.\nOverheerlijke\, gezonde\, voedzame maaltijden die bijdragen aan je welzijn en vitaliteit.\n\nWe gaan samen verbinden\, ademen\, spiegelen\, stress loslaten en goede gesprekken voeren. Er is in het programma voldoende vrije tijd om te reflecteren en te ontspannen. \nEn niet te vergeten… de broederschap die je gaat ervaren met de andere mannen is onbetaalbaar. \nFacilitators: Roald Ploegmakers & Lútzen Bouwe Schroor  \nPraktische informatie\nDeze krachtige 6-daagse Fire & Ice ‘Deep Dive’ start op 26 oktober om 17:00 en eindigt op 31 oktober om 11:00. \nInvestering:\n– € 1.995\,- EARLY BIRD t/m 13 september\n– € 2.195  vanaf 14 september  \nData: 26 okt t/m 31 oktober 2026 \nPrijzen inclusief sessies\, 3 heerlijke maaltijden\, snacks\, fruit\, gebruik van alle faciliteiten en op basis van een gedeelde 2 persoonskamer met eigen sanitair. Upgrade naar eigen privégebruik van kamer is +€ 250\,-  \nLink naar retreat: https://anahata.center/aanbod/mannenretraite-spanje/ 
URL:https://mascorazonretreat.com/en/evenementen/mannenretraite-fire-ice-deep-dive-2/
LOCATION:Mas Corazón\, Veïnat de Sant Tou 16\, Tordera\, Spain
CATEGORIES:External Organizer
ATTACH;FMTTYPE=image/jpeg:https://mascorazonretreat.com/wp-content/uploads/2025/06/Banner-FI.jpg
END:VEVENT
BEGIN:VEVENT
DTSTART;VALUE=DATE:20261115
DTEND;VALUE=DATE:20261122
DTSTAMP:20260420T050308
CREATED:20251215T101513Z
LAST-MODIFIED:20260203T122516Z
UID:2122-1794700800-1795305599@mascorazonretreat.com
SUMMARY:Wisdom of the heart
DESCRIPTION:Deze weldadige en hart-openende retraite week staat in het teken van de wijsheid van het hart. \n\n\n\n\n\n\n\n\n\n\nHet hart is de bron van liefde en compassie. Dit is de leidraad in bakti-yoga\, een yogavorm van devotie en overgave en van verbinding met het universele aspect in en om je welke je in je dagelijks leven kan ervaren.\nDe intentie van de oefeningen is erop gericht om jouw hart te helen en te openen en de energie in het lichaam wakker te maken. Allereerst door relaxatie\, rust en stilte om zo acceptatie te bevorderen voor waar je nu bent in jouw leven. Zo kom je dichter bij je gevoel en jouw innerlijke wijsheid.\nDeze week geeft emotionele rust\, heling en verzachting van het zenuwstelsel. \nHet helende effect van yoga ligt in het eren van jezelf gedurende de oefeningen. Yoga betekent heelheid. Het hart is de poort naar het veld van volledig potentieel en innerlijke vrede.\nDorien richt zich met haar Yoga en meditatiesessies vooral op het openen van het hart. Haar sessies zijn een combinatie van Hatha-\, Yin-\, meditatie-\, Sufi-\, Dru- en Sjamanistische oefeningen welke erop gericht zijn om het contact met je hart te voelen\, lichaam en geest en je daar met aandacht mee te kunnen verbinden. \nDoor haar jarenlange ervaring als docent\, trainer en ondernemer\, weet zij als geen ander hoe ze je liefdevol kan meenemen\, terug naar jezelf. Haar sessies zijn een weldaad voor lichaam en geest waarbij je zowel fysiek als mentaal in een staat komt van innerlijke vrede\, openheid en zelfliefde. Het is de ultieme staat\, waar het zelfhelende vermogen weer actief wordt. \nNaast de Yoga en meditatie lessen is er in het programma meer dan voldoende tijd gelaten om precies te doen waar je behoefte aan hebt. Je bent vrij om gebruik te maken van alle faciliteiten op het landgoed\, zoals het heerlijke zoutwater zwembad\, de vele romantische terrassen waar je een boekje kunt lezen\, of kan uitrusten in een hangmat in de grote tuin\, er is een tennisbaan met rackets en ballen die je kunt gebruiken\, je kunt een van de (elektrische) mountainbikes huren\, een heerlijke wandeling maken in de omgeving en nog veel meer! \nOok is het mogelijk om tijdens je verblijf een privé ayurvedische healing massage in te boeken bij Dorien.\n95 euro per uur\, 140 euro voor 1\,5 uur. \nThema’s tijdens de dagen:\nVan pijn / angst naar liefde\, vergeving\, waarheid\, energie\, het Anahata hart chakra\, bescherming en grenzen\, openen en vertrouwen\, overgave\, leven met passie en hartstocht\, kwetsbaarheid in het dagelijks leven\, innerlijke vrede\, Rust en relaxatie\, balans in onze menselijkheden in combinatie met onze spirituele krachten\, de lichaam-geest balans\, verlangen naar eenheid\, omgaan met verdriet\, compassie\, van onzekerheid naar zelfvertrouwen \nHoe de dagen er globaal uit zullen zien: \nOchtend wandeling\n8.00 Fruit en sap\n9:00 – 11.00 Yoga-meditatie en mini workshop met dagelijks thema\n11.00 Brunch snack\n11.00 Ruimte om de natuur te verkennen\, te zwemmen\, te lezen in de hangmat\, te tennissen\, een wandeling te maken of een prive sessie in te plannen\n13:00 Lunch\n14:00 – 17:30 Ruimte om de natuur te verkennen\, te zwemmen\, te lezen in de hangmat\, te tennissen\, een wandeling te maken of een prive sessie in te plannen\n17:30 – 18.30 Yoga & Mediatie\n19:00 Avond eten\n21:15 Yoga Nidra/meditatie\nTussen de lessen door zullen er mini workshops of activiteiten georganiseerd worden in het teken van de wijsheid van het hart. \nToe aan een een-op-een sessie met Dorien? Boek een prive coaching of ayurvedische helende abyanga massage in. \nLandgoed Mas Corazón is prachtig gesitueerd boven op een heuvel\, midden in een uitgestrekt glooiend natuurgebied. Tussen de bergen en de zee in ligt hier het karakteristieke\, rustieke en zeldzame finca uit 1700\, op meer dan twee hectare grond. De authentieke Spaanse gerenoveerde boerderij wordt omringd door tuinen\, terrassen\, landbouwgronden\, boeren en bossen en bevat een unieke diversiteit aan bomen en planten. \nFaciliteiten Mas Corazón retreat: \n* zoutwater zwembad 12 – 6 m met ligbedden\n* tennisbaan met rackets en ballen\n* 2 elektrische mountainbikes te huur\n* pingpong tafel\n* badminton\n* grote leefkeuken en buitenkeuken\n* serre van 60m2\n* div. terrassen en tuinen in de zon en schaduw\n* honesty-bar voor extra consumpties\n* woonkamer met openbaar\n* werkkamer met printer en scanner\n* massage/coachkamer\n* 8 kamers met 7 badkamers\n* 3 bel-tenten met badkamerhuisje \nDe masía is goed te bereiken met de auto\, trein en het vliegtuig. Transfer mogelijk tegen betaling. \nKijk hier voor de verschillende mogelijkheden om de masía te bereiken. \nInvestering\n\n1950 euro p.p. (incl. BTW\, factuur is mogelijk) in een tweepersoonskamer en 2350 euro p.p. (incl. BTW\, factuur is mogelijk) in een eenpersoonskamer. \nDe prijs is inclusief 6 overnachtingen\, 3 vegetarische maaltijden per dag\, groepslessen en gebruik van het hele landgoed met alle faciliteiten. Exclusief reiskosten. Exclusief transfer ( in te boeken) De prijs is inclusief 6 overnachtingen\, 3 (vegetarische) maaltijden per dag\, kruidenthee/water\, groepslessen en gebruik van het hele landgoed met alle faciliteiten.\nExclusief reiskosten
URL:https://mascorazonretreat.com/en/evenementen/wisdom-of-the-heart/
LOCATION:Mas Corazón\, Veïnat de Sant Tou 16\, Tordera\, Spain
ATTACH;FMTTYPE=image/png:https://mascorazonretreat.com/wp-content/uploads/2024/07/Wisdom-of-the-heart.png
END:VEVENT
END:VCALENDAR